BEGIN:VCALENDAR
VERSION:2.0
PRODID:-//eventon.com NONSGML v1.0//EN
BEGIN:VEVENT
UID:69eb65871bef3
DTSTAMP:20260424T124351
DTSTART:20260616T000000Z
DTEND:20260618T235900Z
LOCATION:
SUMMARY:Closed Event
DESCRIPTION: Closed Event
END:VEVENT
END:VCALENDAR