BEGIN:VCALENDAR
VERSION:2.0
PRODID:-//eventon.com NONSGML v1.0//EN
BEGIN:VEVENT
UID:69eb65871c3b9
DTSTAMP:20260424T124351
DTSTART:20260731T190000Z
DTEND:20260731T220000Z
LOCATION:Champion's Church 1801 Havendale Blvd NW\,  Winter Haven\,  FL
SUMMARY:Winter Haven\,  FL
DESCRIPTION: Healing Waters Event For more information\,  click here.
END:VEVENT
END:VCALENDAR