BEGIN:VCALENDAR
VERSION:2.0
PRODID:-//eventon.com NONSGML v1.0//EN
BEGIN:VEVENT
UID:69eb6672acda3
DTSTAMP:20260424T124746
DTSTART:20260703T090000Z
DTEND:20260704T160000Z
LOCATION:Museum of the Bible 400 4th Street SW\,  Washington\,  DC\,  20024
SUMMARY:Washington\,  DC
DESCRIPTION: Rededicate America 250 Event For more information and to register\,  click here.
END:VEVENT
END:VCALENDAR