BEGIN:VCALENDAR
VERSION:2.0
PRODID:-//eventon.com NONSGML v1.0//EN
BEGIN:VEVENT
UID:69eb667a94dd5
DTSTAMP:20260424T124754
DTSTART:20260529T190000Z
DTEND:20260531T130000Z
LOCATION:Oasis Church 6927 Lefferson Road Middletown\,  Ohio 45044
SUMMARY:Middletown\,  OH
DESCRIPTION: Glory River Conference For more information and to register\,  click here. 
END:VEVENT
END:VCALENDAR