BEGIN:VCALENDAR
VERSION:2.0
PRODID:-//eventon.com NONSGML v1.0//EN
BEGIN:VEVENT
UID:69eb65c540e7b
DTSTAMP:20260424T124453
DTSTART:20260517T060000Z
DTEND:20260517T180000Z
LOCATION:National Mall in Washington\,  D.C. 
SUMMARY:Washington\,  DC
DESCRIPTION: Redidicate 250: A National Jubilee of Prayer\,  Praise\,  and Thanksgiving For more information\,  click here.
END:VEVENT
END:VCALENDAR