BEGIN:VCALENDAR
VERSION:2.0
PRODID:-//eventon.com NONSGML v1.0//EN
BEGIN:VEVENT
UID:69e5ff159f556
DTSTAMP:20260420T102525
DTSTART:20240402T000000Z
DTEND:20240402T235900Z
LOCATION:Ambassador Auditorium 131 South Saint John Avenue Pasadena\,  CA 91105
SUMMARY:Pasadena\,  CA
DESCRIPTION: Reconnecting Apostles and Prophet's event. 9:00 AM - 4:00 PM For more information\,  click here.
END:VEVENT
END:VCALENDAR