BEGIN:VCALENDAR
VERSION:2.0
PRODID:-//eventon.com NONSGML v1.0//EN
BEGIN:VEVENT
UID:69e9de2872a22
DTSTAMP:20260423T085400
DTSTART:20230527T000000Z
DTEND:20230527T235900Z
LOCATION:Global Presence Ministries 144 Mount Gilead Rd\,  Keller\,  TX 76248
SUMMARY:Dallas\,  TX
DESCRIPTION: For more information and to register\,  click here.
END:VEVENT
END:VCALENDAR