BEGIN:VCALENDAR
VERSION:2.0
PRODID:-//eventon.com NONSGML v1.0//EN
BEGIN:VEVENT
UID:69e545743398e
DTSTAMP:20260419T211324
DTSTART:20230312T000000Z
DTEND:20230312T235900Z
LOCATION:Church of His Presence 24142 State Highway 181\,  Daphne\,  AL 36526\,  United States 
SUMMARY:Daphne\,  AL
DESCRIPTION: Sunday\,  10:00 AM For more information\,  click here.
END:VEVENT
END:VCALENDAR