BEGIN:VCALENDAR
VERSION:2.0
PRODID:-//eventon.com NONSGML v1.0//EN
BEGIN:VEVENT
UID:69e5458793631
DTSTAMP:20260419T211343
DTSTART:20230415T000000Z
DTEND:20230415T235900Z
LOCATION:Ambassador Auditorium 131 South Saint John Avenue Pasadena\,  CA 91105
SUMMARY:Pasadena\,  CA
DESCRIPTION: For more information and to register\,  click here.
END:VEVENT
END:VCALENDAR