BEGIN:VCALENDAR
VERSION:2.0
PRODID:-//eventon.com NONSGML v1.0//EN
BEGIN:VEVENT
UID:69e52a84604a9
DTSTAMP:20260419T191828
DTSTART:20230318T000000Z
DTEND:20230319T235900Z
LOCATION:New Covenant Church 2623 S Chapel Rd\,  Carthage\,  MO
SUMMARY:Carthage\,  MO
DESCRIPTION: For more information and to register\,  click here.
END:VEVENT
END:VCALENDAR